BEGIN:VCALENDAR
VERSION:2.0
PRODID:-//Woods Hole Historical Museum - ECPv6.15.11//NONSGML v1.0//EN
CALSCALE:GREGORIAN
METHOD:PUBLISH
X-WR-CALNAME:Woods Hole Historical Museum
X-ORIGINAL-URL:https://woodsholemuseum.org
X-WR-CALDESC:Events for Woods Hole Historical Museum
REFRESH-INTERVAL;VALUE=DURATION:PT1H
X-Robots-Tag:noindex
X-PUBLISHED-TTL:PT1H
BEGIN:VTIMEZONE
TZID:UTC
BEGIN:STANDARD
TZOFFSETFROM:+0000
TZOFFSETTO:+0000
TZNAME:UTC
DTSTART:20220101T000000
END:STANDARD
END:VTIMEZONE
BEGIN:VEVENT
DTSTART;TZID=UTC:20230616T170000
DTEND;TZID=UTC:20230616T190000
DTSTAMP:20260421T054332
CREATED:20230518T223505Z
LAST-MODIFIED:20230518T223720Z
UID:11592-1686934800-1686942000@woodsholemuseum.org
SUMMARY:Opening Party for Members
DESCRIPTION:Members are invited to join us for our Season 2023 kick-off party\, at the Museum\, Friday\, June 16 from 5 to 7 PM. Learn about our exhibits and mingle with other member-friends!
URL:https://woodsholemuseum.org/event/opening-party-for-members/
LOCATION:MA
CATEGORIES:Special Events
ATTACH;FMTTYPE=image/jpeg:https://woodsholemuseum.org/wp-content/uploads/2023/05/Opening-Reception-1.jpg
END:VEVENT
BEGIN:VEVENT
DTSTART;TZID=UTC:20230617T110000
DTEND;TZID=UTC:20230617T150000
DTSTAMP:20260421T054332
CREATED:20230404T184512Z
LAST-MODIFIED:20230404T184613Z
UID:11549-1686999600-1687014000@woodsholemuseum.org
SUMMARY:Opening Day 2023!
DESCRIPTION:Join us for our opening day\, Saturday\, June 17\, 11-3pm to view our exhibits\, tour the grounds\, and visit our gift shop!
URL:https://woodsholemuseum.org/event/opening-day-2023/
LOCATION:MA
CATEGORIES:Special Events
ATTACH;FMTTYPE=image/jpeg:https://woodsholemuseum.org/wp-content/uploads/2023/04/WHHM-Opening-Day-2023-Facebook-Post.jpg
END:VEVENT
BEGIN:VEVENT
DTSTART;TZID=UTC:20230628T140000
DTEND;TZID=UTC:20230628T160000
DTSTAMP:20260421T054332
CREATED:20230608T190315Z
LAST-MODIFIED:20230608T190315Z
UID:11617-1687960800-1687968000@woodsholemuseum.org
SUMMARY:Director's Open House
DESCRIPTION:Come meet Executive Director Sally Piccini. Refreshments will be available. 
URL:https://woodsholemuseum.org/event/directors-open-house/
LOCATION:MA
CATEGORIES:Community Events
ATTACH;FMTTYPE=image/jpeg:https://woodsholemuseum.org/wp-content/uploads/2023/05/WHHM-Exec-Director-Sally-Sara-Piccini-rotated.jpeg
END:VEVENT
END:VCALENDAR