BEGIN:VCALENDAR
VERSION:2.0
PRODID:-//Woods Hole Historical Museum - ECPv6.15.11//NONSGML v1.0//EN
CALSCALE:GREGORIAN
METHOD:PUBLISH
X-WR-CALNAME:Woods Hole Historical Museum
X-ORIGINAL-URL:https://woodsholemuseum.org
X-WR-CALDESC:Events for Woods Hole Historical Museum
REFRESH-INTERVAL;VALUE=DURATION:PT1H
X-Robots-Tag:noindex
X-PUBLISHED-TTL:PT1H
BEGIN:VTIMEZONE
TZID:America/New_York
BEGIN:DAYLIGHT
TZOFFSETFROM:-0500
TZOFFSETTO:-0400
TZNAME:EDT
DTSTART:20250309T070000
END:DAYLIGHT
BEGIN:STANDARD
TZOFFSETFROM:-0400
TZOFFSETTO:-0500
TZNAME:EST
DTSTART:20251102T060000
END:STANDARD
BEGIN:DAYLIGHT
TZOFFSETFROM:-0500
TZOFFSETTO:-0400
TZNAME:EDT
DTSTART:20260308T070000
END:DAYLIGHT
BEGIN:STANDARD
TZOFFSETFROM:-0400
TZOFFSETTO:-0500
TZNAME:EST
DTSTART:20261101T060000
END:STANDARD
BEGIN:DAYLIGHT
TZOFFSETFROM:-0500
TZOFFSETTO:-0400
TZNAME:EDT
DTSTART:20270314T070000
END:DAYLIGHT
BEGIN:STANDARD
TZOFFSETFROM:-0400
TZOFFSETTO:-0500
TZNAME:EST
DTSTART:20271107T060000
END:STANDARD
END:VTIMEZONE
BEGIN:VEVENT
DTSTART;TZID=America/New_York:20260425T100000
DTEND;TZID=America/New_York:20260425T140000
DTSTAMP:20260420T045255
CREATED:20260416T172406Z
LAST-MODIFIED:20260416T172621Z
UID:12799-1777111200-1777125600@woodsholemuseum.org
SUMMARY:Maritime Yard Sale
DESCRIPTION:Join us for a maritime yard sale to benefit the Woods Hole Historical Museum and Community Boat Shop! \nWhat’s in your garage? Do you have too many boats or other marine-related items collecting dust?\n \nThe Museum is ACCEPTING ITEMS NOW for this fundraiser. Drop your donations off any Saturday between 10 am and 2 pm through April 18 at the Boat Shop (back right side of the campus).\n \nExamples of acceptable items include but are not limited to:\nBoats and trailers 15 ft or less\, engines that run\, boat models\, nautical antiques and art\, rigging\, hardware\, oars\, paddles\, anchors\, and fishing tackle.\n* Nothing broken unless it’s bronze or copper.\n* NO project boats\, paints\, solvents\, or expired safety equipment or electronics.\n \nEmail whhmboatshop@gmail.com with any questions about donations or picking up large/multiple items.\n \nWe had lots of happy buyers last year\, loading up on deals galore. Join us this year to have fun discovering your treasures while enjoying complimentary refreshments!\n \nPlease share and help us spread the word among our friends and neighbors.
URL:https://woodsholemuseum.org/event/maritime-yard-sale-2/
LOCATION:Woods Hole Historical Museum\, 579 Woods Hole Road\, Woods Hole\, MA\, 02543
CATEGORIES:Home Page Featured Event,Special Events
ATTACH;FMTTYPE=image/jpeg:https://woodsholemuseum.org/wp-content/uploads/2026/04/646174430_1257270506506181_5444928205060393612_n.jpg
END:VEVENT
END:VCALENDAR