BEGIN:VCALENDAR
VERSION:2.0
PRODID:-//Woods Hole Historical Museum - ECPv6.15.11//NONSGML v1.0//EN
CALSCALE:GREGORIAN
METHOD:PUBLISH
X-ORIGINAL-URL:https://woodsholemuseum.org
X-WR-CALDESC:Events for Woods Hole Historical Museum
REFRESH-INTERVAL;VALUE=DURATION:PT1H
X-Robots-Tag:noindex
X-PUBLISHED-TTL:PT1H
BEGIN:VTIMEZONE
TZID:America/New_York
BEGIN:DAYLIGHT
TZOFFSETFROM:-0500
TZOFFSETTO:-0400
TZNAME:EDT
DTSTART:20240310T070000
END:DAYLIGHT
BEGIN:STANDARD
TZOFFSETFROM:-0400
TZOFFSETTO:-0500
TZNAME:EST
DTSTART:20241103T060000
END:STANDARD
BEGIN:DAYLIGHT
TZOFFSETFROM:-0500
TZOFFSETTO:-0400
TZNAME:EDT
DTSTART:20250309T070000
END:DAYLIGHT
BEGIN:STANDARD
TZOFFSETFROM:-0400
TZOFFSETTO:-0500
TZNAME:EST
DTSTART:20251102T060000
END:STANDARD
BEGIN:DAYLIGHT
TZOFFSETFROM:-0500
TZOFFSETTO:-0400
TZNAME:EDT
DTSTART:20260308T070000
END:DAYLIGHT
BEGIN:STANDARD
TZOFFSETFROM:-0400
TZOFFSETTO:-0500
TZNAME:EST
DTSTART:20261101T060000
END:STANDARD
END:VTIMEZONE
BEGIN:VEVENT
DTSTART;TZID=America/New_York:20251128T190000
DTEND;TZID=America/New_York:20251128T200000
DTSTAMP:20260422T184914
CREATED:20251104T175356Z
LAST-MODIFIED:20251104T193754Z
UID:12663-1764356400-1764360000@woodsholemuseum.org
SUMMARY:WHHM Holiday Conversation: “The Wondrous Mrs. Claus”
DESCRIPTION:Get into the holiday spirit with a Woods Hole Historical Museum Conversation by author Pamela McColl about her new book\, “Wondrous Mrs. Claus.” \nThe wife of Santa made her literary debut in 1849. Sleuthing through books\, journal articles and poems\, McColl discovered Mrs. Claus played a role in larger discussions about women’s roles in 19th century—even used by advocates for and against women’s suffrage. McColl’s talk will include a poem by Falmouth’s own Katharine Lee Bates\, featured in the book. \nHoliday refreshments will be served.
URL:https://woodsholemuseum.org/event/whhm-holiday-conversation-the-wondrous-mrs-claus/
LOCATION:Woods Hole Public Library\, 581 Woods Hole Road\, Woods Hole\, MA\, 02543
CATEGORIES:Conversations,Home Page Featured Event
ATTACH;FMTTYPE=image/jpeg:https://woodsholemuseum.org/wp-content/uploads/2025/11/mrsclaus-scaled-e1762285046227.jpg
END:VEVENT
END:VCALENDAR