BEGIN:VCALENDAR
VERSION:2.0
PRODID:-//Woods Hole Historical Museum - ECPv6.15.11//NONSGML v1.0//EN
CALSCALE:GREGORIAN
METHOD:PUBLISH
X-ORIGINAL-URL:https://woodsholemuseum.org
X-WR-CALDESC:Events for Woods Hole Historical Museum
REFRESH-INTERVAL;VALUE=DURATION:PT1H
X-Robots-Tag:noindex
X-PUBLISHED-TTL:PT1H
BEGIN:VTIMEZONE
TZID:America/New_York
BEGIN:DAYLIGHT
TZOFFSETFROM:-0500
TZOFFSETTO:-0400
TZNAME:EDT
DTSTART:20240310T070000
END:DAYLIGHT
BEGIN:STANDARD
TZOFFSETFROM:-0400
TZOFFSETTO:-0500
TZNAME:EST
DTSTART:20241103T060000
END:STANDARD
BEGIN:DAYLIGHT
TZOFFSETFROM:-0500
TZOFFSETTO:-0400
TZNAME:EDT
DTSTART:20250309T070000
END:DAYLIGHT
BEGIN:STANDARD
TZOFFSETFROM:-0400
TZOFFSETTO:-0500
TZNAME:EST
DTSTART:20251102T060000
END:STANDARD
BEGIN:DAYLIGHT
TZOFFSETFROM:-0500
TZOFFSETTO:-0400
TZNAME:EDT
DTSTART:20260308T070000
END:DAYLIGHT
BEGIN:STANDARD
TZOFFSETFROM:-0400
TZOFFSETTO:-0500
TZNAME:EST
DTSTART:20261101T060000
END:STANDARD
END:VTIMEZONE
BEGIN:VEVENT
DTSTART;TZID=America/New_York:20250927T160000
DTEND;TZID=America/New_York:20250927T170000
DTSTAMP:20260422T152437
CREATED:20250904T191004Z
LAST-MODIFIED:20250906T170650Z
UID:12624-1758988800-1758992400@woodsholemuseum.org
SUMMARY:Good Neighbor Day Block Party
DESCRIPTION:The Woods Hole Public Library and the Woods Hole Historical Museum invite all members of the community to a Good Neighbor Day Block Party! \nThis joyful gathering marks the second annual celebration of Massachusetts Good Neighbor Day\, a statewide initiative dedicated to strengthening connections\, spreading kindness\, and building a deeper sense of belonging across the Commonwealth. And what better way to celebrate here in Woods Hole than by coming together in the Library/Museum courtyard for a lively\, heartwarming afternoon with friends and neighbors? \nExpect good cheer\, great company\, and the spirit of community at its best. We’ll have music\, games\, and a warm welcome for all ages. Guests are encouraged to bring friends\, family members\, neighbors\, and a snack to share if you can! \nLet’s toast the end of a busy summer season and celebrate what makes Woods Hole special: each other. We can’t wait to see you there!
URL:https://woodsholemuseum.org/event/good-neighbor-day-block-party/
LOCATION:Woods Hole Historical Museum Courtyard\, 579 Woods Hole Rd\, Woods Hole\, MA\, 02543\, United States
CATEGORIES:Community Events,Home Page Featured Event,Special Events
ATTACH;FMTTYPE=image/jpeg:https://woodsholemuseum.org/wp-content/uploads/2018/11/04055.jpg
END:VEVENT
END:VCALENDAR