BEGIN:VCALENDAR
VERSION:2.0
PRODID:-//Woods Hole Historical Museum - ECPv6.15.11//NONSGML v1.0//EN
CALSCALE:GREGORIAN
METHOD:PUBLISH
X-ORIGINAL-URL:https://woodsholemuseum.org
X-WR-CALDESC:Events for Woods Hole Historical Museum
REFRESH-INTERVAL;VALUE=DURATION:PT1H
X-Robots-Tag:noindex
X-PUBLISHED-TTL:PT1H
BEGIN:VTIMEZONE
TZID:America/New_York
BEGIN:DAYLIGHT
TZOFFSETFROM:-0500
TZOFFSETTO:-0400
TZNAME:EDT
DTSTART:20210314T070000
END:DAYLIGHT
BEGIN:STANDARD
TZOFFSETFROM:-0400
TZOFFSETTO:-0500
TZNAME:EST
DTSTART:20211107T060000
END:STANDARD
BEGIN:DAYLIGHT
TZOFFSETFROM:-0500
TZOFFSETTO:-0400
TZNAME:EDT
DTSTART:20220313T070000
END:DAYLIGHT
BEGIN:STANDARD
TZOFFSETFROM:-0400
TZOFFSETTO:-0500
TZNAME:EST
DTSTART:20221106T060000
END:STANDARD
BEGIN:DAYLIGHT
TZOFFSETFROM:-0500
TZOFFSETTO:-0400
TZNAME:EDT
DTSTART:20230312T070000
END:DAYLIGHT
BEGIN:STANDARD
TZOFFSETFROM:-0400
TZOFFSETTO:-0500
TZNAME:EST
DTSTART:20231105T060000
END:STANDARD
END:VTIMEZONE
BEGIN:VEVENT
DTSTART;TZID=America/New_York:20220701T181500
DTEND;TZID=America/New_York:20220701T200000
DTSTAMP:20260424T064537
CREATED:20220417T213022Z
LAST-MODIFIED:20220607T001243Z
UID:11236-1656699300-1656705600@woodsholemuseum.org
SUMMARY:WHHM-WHPL Conversation: Local Shipwrights Restoring a 1967 Royal Lowell Clam Boat
DESCRIPTION:Join us on campus for an Open House at the Museum’s Boat Shop with Chuck Verbeck followed by a conversation with Athena Aicher about boat building at the Woods Hole Public Library.  \nAthena Aicher and Chuck Verbeck are two professional shipwrights living in Woods Hole. They have spent the past five years working at the Gannon and Benjamin Marine Railway in Vineyard Haven\, and the Quissett Harbor Boatyard\, respectively.  \nAside from rebuilding Herreshoff 12 1/2s at Quissett\, Chuck has been volunteering with the Woods Hole Historical Society\, revamping the community boat shop with a few other enthusiastic boat-lovers. At work\, Athena has had the opportunity to work on a few notable restorations including the 2019-2020 rebuilding of the Alden cutter\, LARK\, a boat that had been a fixture in Woods Hole for many years. \n \nThey have recently decided to take on a personal restoration project— the rebuilding of a Royal Lowell clam and oyster boat built in 1967. The work is being done in the yard at G and B and includes a full re-framing\, new centerline timbers\, new deck and rebuilt superstructures. \nThis even is co-sponsored by the Woods Hole Public Library and the Woods Hole Historical Museum.
URL:https://woodsholemuseum.org/event/whhm-whpl-conversation-local-shipwrights-restoring-a-1967-royal-lowell-clam-boat/
LOCATION:MA
CATEGORIES:Community Events,Conversations
ATTACH;FMTTYPE=image/jpeg:https://woodsholemuseum.org/wp-content/uploads/2022/04/chuck-and-athenas-boat-project-scaled.jpeg
END:VEVENT
END:VCALENDAR