BEGIN:VCALENDAR
VERSION:2.0
PRODID:-//Woods Hole Historical Museum - ECPv6.15.11//NONSGML v1.0//EN
CALSCALE:GREGORIAN
METHOD:PUBLISH
X-ORIGINAL-URL:https://woodsholemuseum.org
X-WR-CALDESC:Events for Woods Hole Historical Museum
REFRESH-INTERVAL;VALUE=DURATION:PT1H
X-Robots-Tag:noindex
X-PUBLISHED-TTL:PT1H
BEGIN:VTIMEZONE
TZID:America/New_York
BEGIN:DAYLIGHT
TZOFFSETFROM:-0500
TZOFFSETTO:-0400
TZNAME:EDT
DTSTART:20240310T070000
END:DAYLIGHT
BEGIN:STANDARD
TZOFFSETFROM:-0400
TZOFFSETTO:-0500
TZNAME:EST
DTSTART:20241103T060000
END:STANDARD
BEGIN:DAYLIGHT
TZOFFSETFROM:-0500
TZOFFSETTO:-0400
TZNAME:EDT
DTSTART:20250309T070000
END:DAYLIGHT
BEGIN:STANDARD
TZOFFSETFROM:-0400
TZOFFSETTO:-0500
TZNAME:EST
DTSTART:20251102T060000
END:STANDARD
BEGIN:DAYLIGHT
TZOFFSETFROM:-0500
TZOFFSETTO:-0400
TZNAME:EDT
DTSTART:20260308T070000
END:DAYLIGHT
BEGIN:STANDARD
TZOFFSETFROM:-0400
TZOFFSETTO:-0500
TZNAME:EST
DTSTART:20261101T060000
END:STANDARD
END:VTIMEZONE
BEGIN:VEVENT
DTSTART;TZID=America/New_York:20250805T120000
DTEND;TZID=America/New_York:20250805T140000
DTSTAMP:20260425T200855
CREATED:20250708T164646Z
LAST-MODIFIED:20250708T165005Z
UID:12564-1754395200-1754402400@woodsholemuseum.org
SUMMARY:Woods Hole Cooks Something Up: Fish\, Fish\, & More Fish! with Chef Katie
DESCRIPTION:A big thank you to Chef Katie Rickard and her team at Highfield Hall & Gardens for hosting the Woods Hole Historical Museum’s program celebrating our new cookbook Woods Hole Cooks Something Up! \nHighfield Hall and the WHHM will again team up for Fish\, Fish and More Fish! when Grace Dodier\, Dan Isenberg and Olwen Huxley present their amazing recipes for Gravlox\, Portuguese Fisherman’s Stew and Salt-Encrusted Striper or Bluefish. \nRegister online here or call 508-495-1878 ext. 2.
URL:https://woodsholemuseum.org/event/woods-hole-cooks-something-up-fish-fish-more-fish-with-chef-katie-2/
LOCATION:Highfield Hall\, 56 Highfield Dr.\, Falmouth\, MA\, 02540\, United States
CATEGORIES:Classes,Community Events,Special Events
ATTACH;FMTTYPE=image/jpeg:https://woodsholemuseum.org/wp-content/uploads/2025/07/Alexandra-presenting-Apricot-Galette-7.2025-e1751992646396.jpeg
END:VEVENT
END:VCALENDAR