BEGIN:VCALENDAR
VERSION:2.0
PRODID:-//Woods Hole Historical Museum - ECPv6.15.11//NONSGML v1.0//EN
CALSCALE:GREGORIAN
METHOD:PUBLISH
X-WR-CALNAME:Woods Hole Historical Museum
X-ORIGINAL-URL:https://woodsholemuseum.org
X-WR-CALDESC:Events for Woods Hole Historical Museum
REFRESH-INTERVAL;VALUE=DURATION:PT1H
X-Robots-Tag:noindex
X-PUBLISHED-TTL:PT1H
BEGIN:VTIMEZONE
TZID:America/New_York
BEGIN:DAYLIGHT
TZOFFSETFROM:-0500
TZOFFSETTO:-0400
TZNAME:EDT
DTSTART:20240310T070000
END:DAYLIGHT
BEGIN:STANDARD
TZOFFSETFROM:-0400
TZOFFSETTO:-0500
TZNAME:EST
DTSTART:20241103T060000
END:STANDARD
BEGIN:DAYLIGHT
TZOFFSETFROM:-0500
TZOFFSETTO:-0400
TZNAME:EDT
DTSTART:20250309T070000
END:DAYLIGHT
BEGIN:STANDARD
TZOFFSETFROM:-0400
TZOFFSETTO:-0500
TZNAME:EST
DTSTART:20251102T060000
END:STANDARD
BEGIN:DAYLIGHT
TZOFFSETFROM:-0500
TZOFFSETTO:-0400
TZNAME:EDT
DTSTART:20260308T070000
END:DAYLIGHT
BEGIN:STANDARD
TZOFFSETFROM:-0400
TZOFFSETTO:-0500
TZNAME:EST
DTSTART:20261101T060000
END:STANDARD
END:VTIMEZONE
BEGIN:VEVENT
DTSTART;TZID=America/New_York:20250426T100000
DTEND;TZID=America/New_York:20250426T150000
DTSTAMP:20260421T095715
CREATED:20250311T181450Z
LAST-MODIFIED:20250414T155915Z
UID:12078-1745661600-1745679600@woodsholemuseum.org
SUMMARY:Maritime Yard Sale
DESCRIPTION:Have too much nautical stuff? Planning to clean out your garage? The museum is holding a Maritime Yard Sale to benefit our Community Boat Shop on Saturday\, April 26. \nWe are accepting donations and 50/50 consignments for high-value items on Saturdays from 10-2 beginning March 15th. Please email whhmboatshop@gmail.com for more information.
URL:https://woodsholemuseum.org/event/maritime-yard-sale/
LOCATION:Woods Hole Historical Museum\, 579 Woods Hole Road\, Woods Hole\, MA\, 02543
CATEGORIES:Community Events,Special Events
ATTACH;FMTTYPE=image/jpeg:https://woodsholemuseum.org/wp-content/uploads/2025/03/maritime-yard-sale-featured-image.jpg
END:VEVENT
END:VCALENDAR