BEGIN:VCALENDAR
VERSION:2.0
PRODID:-//Woods Hole Historical Museum - ECPv6.15.11//NONSGML v1.0//EN
CALSCALE:GREGORIAN
METHOD:PUBLISH
X-WR-CALNAME:Woods Hole Historical Museum
X-ORIGINAL-URL:https://woodsholemuseum.org
X-WR-CALDESC:Events for Woods Hole Historical Museum
REFRESH-INTERVAL;VALUE=DURATION:PT1H
X-Robots-Tag:noindex
X-PUBLISHED-TTL:PT1H
BEGIN:VTIMEZONE
TZID:UTC
BEGIN:STANDARD
TZOFFSETFROM:+0000
TZOFFSETTO:+0000
TZNAME:UTC
DTSTART:20220101T000000
END:STANDARD
END:VTIMEZONE
BEGIN:VEVENT
DTSTART;TZID=UTC:20230628T140000
DTEND;TZID=UTC:20230628T160000
DTSTAMP:20260421T070453
CREATED:20230608T190315Z
LAST-MODIFIED:20230608T190315Z
UID:11617-1687960800-1687968000@woodsholemuseum.org
SUMMARY:Director's Open House
DESCRIPTION:Come meet Executive Director Sally Piccini. Refreshments will be available. 
URL:https://woodsholemuseum.org/event/directors-open-house/
LOCATION:MA
CATEGORIES:Community Events
ATTACH;FMTTYPE=image/jpeg:https://woodsholemuseum.org/wp-content/uploads/2023/05/WHHM-Exec-Director-Sally-Sara-Piccini-rotated.jpeg
END:VEVENT
END:VCALENDAR